BEGIN:VCALENDAR
VERSION:2.0
PRODID:-//wp-events-plugin.com//7.2.3.1//EN
TZID:America/Los_Angeles
X-WR-TIMEZONE:America/Los_Angeles
BEGIN:VEVENT
UID:4602@lesliehowardyoga.com
DTSTART;TZID=America/Los_Angeles:20260614T000000
DTEND;TZID=America/Los_Angeles:20260614T000000
DTSTAMP:20260113T231531Z
URL:https://lesliehowardyoga.com/events/yoga-for-the-hip-flexors/
SUMMARY:Psoas\, So Happy: Yoga for the Healthy Hips and Digestion
DESCRIPTION:
CATEGORIES:Workshops
LOCATION:Light and Space Yoga\, 915 East Ojai Ave\, Ojai\, CA\, United Stat
 es
X-APPLE-STRUCTURED-LOCATION;VALUE=URI;X-ADDRESS=915 East Ojai Ave\, Ojai\, 
 CA\, United States;X-APPLE-RADIUS=100;X-TITLE=Light and Space Yoga:geo:0,0
END:VEVENT
BEGIN:VTIMEZONE
TZID:America/Los_Angeles
X-LIC-LOCATION:America/Los_Angeles
BEGIN:DAYLIGHT
DTSTART:20260308T030000
TZOFFSETFROM:-0800
TZOFFSETTO:-0700
TZNAME:PDT
END:DAYLIGHT
END:VTIMEZONE
END:VCALENDAR