BEGIN:VCALENDAR
VERSION:2.0
PRODID:-//wp-events-plugin.com//7.2.3.1//EN
TZID:America/Los_Angeles
X-WR-TIMEZONE:America/Los_Angeles
BEGIN:VEVENT
UID:4148@lesliehowardyoga.com
DTSTART;TZID=America/Los_Angeles:20151206T083000
DTEND;TZID=America/Los_Angeles:20151206T123000
DTSTAMP:20151008T213133Z
URL:https://lesliehowardyoga.com/events/yoga-for-the-female-pelvic-floor-3
 /
SUMMARY:Yoga for the Female Pelvic Floor
DESCRIPTION:
CATEGORIES:Workshops
LOCATION:Eugene Yoga\, 3575 Donald St.\, Eugene\, OR\, 97405 \, United Stat
 es
GEO:44.017539;-123.08756160000002
X-APPLE-STRUCTURED-LOCATION;VALUE=URI;X-ADDRESS=3575 Donald St.\, Eugene\, 
 OR\, 97405 \, United States;X-APPLE-RADIUS=100;X-TITLE=Eugene Yoga:geo:44.
 017539,-123.08756160000002
END:VEVENT
BEGIN:VTIMEZONE
TZID:America/Los_Angeles
X-LIC-LOCATION:America/Los_Angeles
BEGIN:STANDARD
DTSTART:20151101T010000
TZOFFSETFROM:-0700
TZOFFSETTO:-0800
TZNAME:PST
END:STANDARD
END:VTIMEZONE
END:VCALENDAR