BEGIN:VCALENDAR
VERSION:2.0
PRODID:-//wp-events-plugin.com//7.2.3.1//EN
TZID:America/Los_Angeles
X-WR-TIMEZONE:America/Los_Angeles
BEGIN:VEVENT
UID:4612@lesliehowardyoga.com
DTSTART;TZID=America/Los_Angeles:20260521T000000
DTEND;TZID=America/Los_Angeles:20260604T000000
DTSTAMP:20260223T222827Z
URL:https://lesliehowardyoga.com/events/yoga-for-cranky-guts-and-grippy-hi
 ps-hybrid/
SUMMARY:Yoga for Cranky Guts and Grippy Hips - Hybrid
DESCRIPTION:
CATEGORIES:Workshops
LOCATION:Nest Yoga\, 3976 Piedmont Ave\, Oakland\, CA\, United States
X-APPLE-STRUCTURED-LOCATION;VALUE=URI;X-ADDRESS=3976 Piedmont Ave\, Oakland
 \, CA\, United States;X-APPLE-RADIUS=100;X-TITLE=Nest Yoga:geo:0,0
END:VEVENT
BEGIN:VTIMEZONE
TZID:America/Los_Angeles
X-LIC-LOCATION:America/Los_Angeles
BEGIN:DAYLIGHT
DTSTART:20260308T030000
TZOFFSETFROM:-0800
TZOFFSETTO:-0700
TZNAME:PDT
END:DAYLIGHT
END:VTIMEZONE
END:VCALENDAR