BEGIN:VCALENDAR
VERSION:2.0
PRODID:-//wp-events-plugin.com//7.2.3.1//EN
TZID:America/Los_Angeles
X-WR-TIMEZONE:America/Los_Angeles
BEGIN:VEVENT
UID:4222@lesliehowardyoga.com
DTSTART;TZID=America/Los_Angeles;VALUE=DATE:20170610
DTEND;TZID=America/Los_Angeles;VALUE=DATE:20170612
DTSTAMP:20170510T174021Z
URL:https://lesliehowardyoga.com/events/yoga-and-the-pelvic-floor/
SUMMARY:Yoga and the Pelvic Floor
DESCRIPTION:
CATEGORIES:Workshops
LOCATION:California Yoga Center\, 1776 Miramonte Avenue\, Mountain View\, U
 nited States
GEO:37.371934;-122.08720740000001
X-APPLE-STRUCTURED-LOCATION;VALUE=URI;X-ADDRESS=1776 Miramonte Avenue\, Mou
 ntain View\, United States;X-APPLE-RADIUS=100;X-TITLE=California Yoga Cent
 er:geo:37.371934,-122.08720740000001
END:VEVENT
BEGIN:VTIMEZONE
TZID:America/Los_Angeles
X-LIC-LOCATION:America/Los_Angeles
BEGIN:DAYLIGHT
DTSTART:20170312T030000
TZOFFSETFROM:-0800
TZOFFSETTO:-0700
TZNAME:PDT
END:DAYLIGHT
END:VTIMEZONE
END:VCALENDAR