BEGIN:VCALENDAR
VERSION:2.0
PRODID:-//wp-events-plugin.com//7.2.3.1//EN
TZID:America/Los_Angeles
X-WR-TIMEZONE:America/Los_Angeles
BEGIN:VEVENT
UID:4124@lesliehowardyoga.com
DTSTART;TZID=America/Los_Angeles:20151003T000000
DTEND;TZID=America/Los_Angeles:20151004T000000
DTSTAMP:20150407T161153Z
URL:https://lesliehowardyoga.com/events/yoga-and-the-female-pelvis-2/
SUMMARY:Yoga and the Female Pelvis
DESCRIPTION:
CATEGORIES:Workshops
LOCATION:Yoga Shanti\, 46 West 24th St\, NY\, NY\, 10010\, United States
GEO:40.7431682;-73.99175819999999
X-APPLE-STRUCTURED-LOCATION;VALUE=URI;X-ADDRESS=46 West 24th St\, NY\, NY\,
  10010\, United States;X-APPLE-RADIUS=100;X-TITLE=Yoga Shanti:geo:40.74316
 82,-73.99175819999999
END:VEVENT
BEGIN:VTIMEZONE
TZID:America/Los_Angeles
X-LIC-LOCATION:America/Los_Angeles
BEGIN:DAYLIGHT
DTSTART:20150308T030000
TZOFFSETFROM:-0800
TZOFFSETTO:-0700
TZNAME:PDT
END:DAYLIGHT
END:VTIMEZONE
END:VCALENDAR