BEGIN:VCALENDAR
VERSION:2.0
PRODID:-//wp-events-plugin.com//7.2.3.1//EN
TZID:America/Los_Angeles
X-WR-TIMEZONE:America/Los_Angeles
BEGIN:VEVENT
UID:4068@lesliehowardyoga.com
DTSTART;TZID=America/Los_Angeles;VALUE=DATE:20140412
DTEND;TZID=America/Los_Angeles;VALUE=DATE:20140414
DTSTAMP:20140205T014312Z
URL:https://lesliehowardyoga.com/events/yoga-and-the-female-pelvic-floor-9
 /
SUMMARY:Yoga and The Female Pelvic Floor
DESCRIPTION:
CATEGORIES:Workshops
LOCATION:Jennifer Butera Yoga\, 580 Celeron St\, Pittsburgh\, PA\, 15221\, 
 United States
GEO:40.4402111;-79.89580289999998
X-APPLE-STRUCTURED-LOCATION;VALUE=URI;X-ADDRESS=580 Celeron St\, Pittsburgh
 \, PA\, 15221\, United States;X-APPLE-RADIUS=100;X-TITLE=Jennifer Butera Y
 oga:geo:40.4402111,-79.89580289999998
END:VEVENT
BEGIN:VTIMEZONE
TZID:America/Los_Angeles
X-LIC-LOCATION:America/Los_Angeles
BEGIN:DAYLIGHT
DTSTART:20140309T030000
TZOFFSETFROM:-0800
TZOFFSETTO:-0700
TZNAME:PDT
END:DAYLIGHT
END:VTIMEZONE
END:VCALENDAR