BEGIN:VCALENDAR
VERSION:2.0
PRODID:-//wp-events-plugin.com//7.2.3.1//EN
TZID:America/Los_Angeles
X-WR-TIMEZONE:America/Los_Angeles
BEGIN:VEVENT
UID:4261@lesliehowardyoga.com
DTSTART;TZID=America/Los_Angeles:20180408T133000
DTEND;TZID=America/Los_Angeles:20180408T173000
DTSTAMP:20180201T204249Z
URL:https://lesliehowardyoga.com/events/yoga-and-the-female-pelvic-floor-7
 9/
SUMMARY:Yoga and the Female Pelvic Floor
DESCRIPTION:
CATEGORIES:Workshops
LOCATION:I Am Yoga\, Geer Rd\, Turlock\, CA\, United States
X-APPLE-STRUCTURED-LOCATION;VALUE=URI;X-ADDRESS=Geer Rd\, Turlock\, CA\, Un
 ited States;X-APPLE-RADIUS=100;X-TITLE=I Am Yoga:geo:0,0
END:VEVENT
BEGIN:VTIMEZONE
TZID:America/Los_Angeles
X-LIC-LOCATION:America/Los_Angeles
BEGIN:DAYLIGHT
DTSTART:20180311T030000
TZOFFSETFROM:-0800
TZOFFSETTO:-0700
TZNAME:PDT
END:DAYLIGHT
END:VTIMEZONE
END:VCALENDAR