BEGIN:VCALENDAR
VERSION:2.0
PRODID:-//wp-events-plugin.com//7.2.3.1//EN
TZID:America/Los_Angeles
X-WR-TIMEZONE:America/Los_Angeles
BEGIN:VEVENT
UID:4217@lesliehowardyoga.com
DTSTART;TZID=America/Los_Angeles;VALUE=DATE:20170512
DTEND;TZID=America/Los_Angeles;VALUE=DATE:20170513
DTSTAMP:20161229T183449Z
URL:https://lesliehowardyoga.com/events/yoga-and-the-female-pelvic-floor-6
 1/
SUMMARY:Yoga and the Female Pelvic Floor
DESCRIPTION:
CATEGORIES:Workshops
LOCATION:Kaia Yoga\, 328 Pemberwick Road\, Greenwich\, CT\, 06831\, United 
 States
GEO:41.0366587;-73.66603359999999
X-APPLE-STRUCTURED-LOCATION;VALUE=URI;X-ADDRESS=328 Pemberwick Road\, Green
 wich\, CT\, 06831\, United States;X-APPLE-RADIUS=100;X-TITLE=Kaia Yoga:geo
 :41.0366587,-73.66603359999999
END:VEVENT
BEGIN:VTIMEZONE
TZID:America/Los_Angeles
X-LIC-LOCATION:America/Los_Angeles
BEGIN:DAYLIGHT
DTSTART:20170312T030000
TZOFFSETFROM:-0800
TZOFFSETTO:-0700
TZNAME:PDT
END:DAYLIGHT
END:VTIMEZONE
END:VCALENDAR