BEGIN:VCALENDAR
VERSION:2.0
PRODID:-//wp-events-plugin.com//7.2.3.1//EN
TZID:America/Los_Angeles
X-WR-TIMEZONE:America/Los_Angeles
BEGIN:VEVENT
UID:4207@lesliehowardyoga.com
DTSTART;TZID=America/Los_Angeles;VALUE=DATE:20170305
DTEND;TZID=America/Los_Angeles;VALUE=DATE:20170306
DTSTAMP:20161208T192446Z
URL:https://lesliehowardyoga.com/events/yoga-and-the-female-pelvic-floor-5
 5/
SUMMARY:Yoga and the Female Pelvic Floor
DESCRIPTION:
CATEGORIES:Workshops
LOCATION:You and the Mat\, 3699 Piedmont Ave\, Oakland\, CA\, 94608\, Unite
 d States
GEO:37.8232029;-122.25666160000003
X-APPLE-STRUCTURED-LOCATION;VALUE=URI;X-ADDRESS=3699 Piedmont Ave\, Oakland
 \, CA\, 94608\, United States;X-APPLE-RADIUS=100;X-TITLE=You and the Mat:g
 eo:37.8232029,-122.25666160000003
END:VEVENT
BEGIN:VTIMEZONE
TZID:America/Los_Angeles
X-LIC-LOCATION:America/Los_Angeles
BEGIN:STANDARD
DTSTART:20161106T010000
TZOFFSETFROM:-0700
TZOFFSETTO:-0800
TZNAME:PST
END:STANDARD
END:VTIMEZONE
END:VCALENDAR