BEGIN:VCALENDAR
VERSION:2.0
PRODID:-//wp-events-plugin.com//7.2.3.1//EN
TZID:America/Los_Angeles
X-WR-TIMEZONE:America/Los_Angeles
BEGIN:VEVENT
UID:4238@lesliehowardyoga.com
DTSTART;TZID=America/Los_Angeles;VALUE=DATE:20171123
DTEND;TZID=America/Los_Angeles;VALUE=DATE:20171127
DTSTAMP:20170411T234617Z
URL:https://lesliehowardyoga.com/events/the-root-of-all-things-pelvic-floo
 r-teacher-training-3/
SUMMARY:The Root of All Things - Pelvic Floor Teacher Training
DESCRIPTION:
CATEGORIES:Workshops
LOCATION:Studio Green\, 大阪府大阪市天王寺区逢阪2-3-2リンク
 ハウス 天王寺ﾋﾞﾙ201号\,\, Osaka\, Japan
GEO:34.6937378;135.50216509999996
X-APPLE-STRUCTURED-LOCATION;VALUE=URI;X-ADDRESS=大阪府大阪市天王寺
 区逢阪2-3-2リンクハウス 天王寺ﾋﾞﾙ201号\,\, Osaka\, Japa
 n;X-APPLE-RADIUS=100;X-TITLE=Studio Green:geo:34.6937378,135.5021650999999
 6
END:VEVENT
BEGIN:VTIMEZONE
TZID:America/Los_Angeles
X-LIC-LOCATION:America/Los_Angeles
BEGIN:STANDARD
DTSTART:20171105T010000
TZOFFSETFROM:-0700
TZOFFSETTO:-0800
TZNAME:PST
END:STANDARD
END:VTIMEZONE
END:VCALENDAR