BEGIN:VCALENDAR
VERSION:2.0
PRODID:-//wp-events-plugin.com//7.2.3.1//EN
TZID:America/Los_Angeles
X-WR-TIMEZONE:America/Los_Angeles
BEGIN:VEVENT
UID:4239@lesliehowardyoga.com
DTSTART;TZID=America/Los_Angeles:20171020T180000
DTEND;TZID=America/Los_Angeles:20171020T200000
DTSTAMP:20170414T160058Z
URL:https://lesliehowardyoga.com/events/smart-ass-dumb-ass-yoga-for-the-gl
 uteuls/
SUMMARY:Smart Ass\, Dumb Ass: Yoga for the Gluteuls
DESCRIPTION:
CATEGORIES:Workshops
LOCATION:Solstice Yoga\, 195 Arizona Avenue NE\,  #500\, Atlanta\, GA\, Uni
 ted States
GEO:33.7593251;-84.33067549999998
X-APPLE-STRUCTURED-LOCATION;VALUE=URI;X-ADDRESS=195 Arizona Avenue NE\,  #5
 00\, Atlanta\, GA\, United States;X-APPLE-RADIUS=100;X-TITLE=Solstice Yoga
 :geo:33.7593251,-84.33067549999998
END:VEVENT
BEGIN:VTIMEZONE
TZID:America/Los_Angeles
X-LIC-LOCATION:America/Los_Angeles
BEGIN:DAYLIGHT
DTSTART:20170312T030000
TZOFFSETFROM:-0800
TZOFFSETTO:-0700
TZNAME:PDT
END:DAYLIGHT
END:VTIMEZONE
END:VCALENDAR