BEGIN:VCALENDAR
VERSION:2.0
PRODID:-//wp-events-plugin.com//7.2.3.1//EN
TZID:America/Los_Angeles
X-WR-TIMEZONE:America/Los_Angeles
BEGIN:VEVENT
UID:4549@lesliehowardyoga.com
DTSTART;TZID=America/Los_Angeles:20240801T170000
DTEND;TZID=America/Los_Angeles:20240801T190000
DTSTAMP:20240603T215106Z
URL:https://lesliehowardyoga.com/events/sex-lies-and-yoga-how-to-sweeten-y
 our-sex-life-after-menopause-hybrid/
SUMMARY:Sex\, Lies and Yoga: How to Sweeten Your Sex Life After Menopause -
  Hybrid
DESCRIPTION:
CATEGORIES:Workshops
LOCATION:Nest Yoga\, 3976 Piedmont Ave\, Oakland\, CA\, United States
X-APPLE-STRUCTURED-LOCATION;VALUE=URI;X-ADDRESS=3976 Piedmont Ave\, Oakland
 \, CA\, United States;X-APPLE-RADIUS=100;X-TITLE=Nest Yoga:geo:0,0
END:VEVENT
BEGIN:VTIMEZONE
TZID:America/Los_Angeles
X-LIC-LOCATION:America/Los_Angeles
BEGIN:DAYLIGHT
DTSTART:20240310T030000
TZOFFSETFROM:-0800
TZOFFSETTO:-0700
TZNAME:PDT
END:DAYLIGHT
END:VTIMEZONE
END:VCALENDAR