BEGIN:VCALENDAR
VERSION:2.0
PRODID:-//wp-events-plugin.com//7.2.3.1//EN
TZID:America/Los_Angeles
X-WR-TIMEZONE:America/Los_Angeles
BEGIN:VEVENT
UID:4603@lesliehowardyoga.com
DTSTART;TZID=America/Los_Angeles:20260614T150000
DTEND;TZID=America/Los_Angeles:20260614T180000
DTSTAMP:20260113T231504Z
URL:https://lesliehowardyoga.com/events/savasana-between-breath-and-death-
 2/
SUMMARY:Savasana: Between Breath and Death
DESCRIPTION:
CATEGORIES:Workshops
LOCATION:Light and Space Yoga\, 915 E Ojai Ave\, Ojai\, United States
X-APPLE-STRUCTURED-LOCATION;VALUE=URI;X-ADDRESS=915 E Ojai Ave\, Ojai\, Uni
 ted States;X-APPLE-RADIUS=100;X-TITLE=Light and Space Yoga:geo:0,0
END:VEVENT
BEGIN:VTIMEZONE
TZID:America/Los_Angeles
X-LIC-LOCATION:America/Los_Angeles
BEGIN:DAYLIGHT
DTSTART:20260308T030000
TZOFFSETFROM:-0800
TZOFFSETTO:-0700
TZNAME:PDT
END:DAYLIGHT
END:VTIMEZONE
END:VCALENDAR