BEGIN:VCALENDAR
VERSION:2.0
PRODID:-//wp-events-plugin.com//7.2.3.1//EN
TZID:America/Los_Angeles
X-WR-TIMEZONE:America/Los_Angeles
BEGIN:VEVENT
UID:4564@lesliehowardyoga.com
DTSTART;TZID=America/Los_Angeles:20241110T093000
DTEND;TZID=America/Los_Angeles:20241110T113000
DTSTAMP:20240916T153152Z
URL:https://lesliehowardyoga.com/events/psoas-so-happy-yoga-for-the-hip-fl
 exors-3/
SUMMARY:Psoas\, SO Happy: Yoga for the Hip Flexors
DESCRIPTION:
CATEGORIES:Workshops
LOCATION:Santa Barbara Yoga Center\, 32 E. Micheltorena\, Santa Barbara\, C
 A\, United States
X-APPLE-STRUCTURED-LOCATION;VALUE=URI;X-ADDRESS=32 E. Micheltorena\, Santa 
 Barbara\, CA\, United States;X-APPLE-RADIUS=100;X-TITLE=Santa Barbara Yoga
  Center:geo:0,0
END:VEVENT
BEGIN:VTIMEZONE
TZID:America/Los_Angeles
X-LIC-LOCATION:America/Los_Angeles
BEGIN:STANDARD
DTSTART:20241103T010000
TZOFFSETFROM:-0700
TZOFFSETTO:-0800
TZNAME:PST
END:STANDARD
END:VTIMEZONE
END:VCALENDAR