BEGIN:VCALENDAR
VERSION:2.0
PRODID:-//wp-events-plugin.com//7.2.3.1//EN
TZID:America/Los_Angeles
X-WR-TIMEZONE:America/Los_Angeles
BEGIN:VEVENT
UID:4449@lesliehowardyoga.com
DTSTART;TZID=America/Los_Angeles:20220410T000000
DTEND;TZID=America/Los_Angeles:20220410T000000
DTSTAMP:20220402T182131Z
URL:https://lesliehowardyoga.com/events/pelvic-floor-yoga-workshop-in-pers
 on-we-will-try-this-again/
SUMMARY:Pelvic Floor Yoga workshop IN PERSON
DESCRIPTION:
CATEGORIES:Workshops
LOCATION:Mount Diablo Yoga\, 2121 Ygnacio Valley Rd.\, Walnut Creek\, CA\, 
 94598\, United States
X-APPLE-STRUCTURED-LOCATION;VALUE=URI;X-ADDRESS=2121 Ygnacio Valley Rd.\, W
 alnut Creek\, CA\, 94598\, United States;X-APPLE-RADIUS=100;X-TITLE=Mount 
 Diablo Yoga:geo:0,0
END:VEVENT
BEGIN:VTIMEZONE
TZID:America/Los_Angeles
X-LIC-LOCATION:America/Los_Angeles
BEGIN:DAYLIGHT
DTSTART:20220313T030000
TZOFFSETFROM:-0800
TZOFFSETTO:-0700
TZNAME:PDT
END:DAYLIGHT
END:VTIMEZONE
END:VCALENDAR