BEGIN:VCALENDAR
VERSION:2.0
PRODID:-//wp-events-plugin.com//7.2.3.1//EN
TZID:America/Los_Angeles
X-WR-TIMEZONE:America/Los_Angeles
BEGIN:VEVENT
UID:4605@lesliehowardyoga.com
DTSTART;TZID=America/Los_Angeles:20260502T000000
DTEND;TZID=America/Los_Angeles:20260505T000000
DTSTAMP:20251204T223959Z
URL:https://lesliehowardyoga.com/events/pelvic-floor-yoga-teacher-training
 -details-coming-soon-2/
SUMMARY:Pelvic Floor Yoga Teacher Training - details coming soon
DESCRIPTION:
CATEGORIES:Workshops
LOCATION:Bloom Yoga\, 4663 N. Rockwell St.\, Chicago\, IL\, United States
X-APPLE-STRUCTURED-LOCATION;VALUE=URI;X-ADDRESS=4663 N. Rockwell St.\, Chic
 ago\, IL\, United States;X-APPLE-RADIUS=100;X-TITLE=Bloom Yoga:geo:0,0
END:VEVENT
BEGIN:VTIMEZONE
TZID:America/Los_Angeles
X-LIC-LOCATION:America/Los_Angeles
BEGIN:DAYLIGHT
DTSTART:20260308T030000
TZOFFSETFROM:-0800
TZOFFSETTO:-0700
TZNAME:PDT
END:DAYLIGHT
END:VTIMEZONE
END:VCALENDAR