BEGIN:VCALENDAR
VERSION:2.0
PRODID:-//wp-events-plugin.com//7.2.3.1//EN
TZID:America/Los_Angeles
X-WR-TIMEZONE:America/Los_Angeles
BEGIN:VEVENT
UID:4608@lesliehowardyoga.com
DTSTART;TZID=America/Los_Angeles:20260912T000000
DTEND;TZID=America/Los_Angeles:20260915T000000
DTSTAMP:20260316T201942Z
URL:https://lesliehowardyoga.com/events/pelvic-floor-yoga-teacher-training
 -11/
SUMMARY:Pelvic Floor Yoga Teacher Training - In Person
DESCRIPTION:
CATEGORIES:Workshops
LOCATION:Willow Street Yoga\, 6930 Carroll Ave\, Takoma Park\, MD\, United 
 States
X-APPLE-STRUCTURED-LOCATION;VALUE=URI;X-ADDRESS=6930 Carroll Ave\, Takoma P
 ark\, MD\, United States;X-APPLE-RADIUS=100;X-TITLE=Willow Street Yoga:geo
 :0,0
END:VEVENT
BEGIN:VTIMEZONE
TZID:America/Los_Angeles
X-LIC-LOCATION:America/Los_Angeles
BEGIN:DAYLIGHT
DTSTART:20260308T030000
TZOFFSETFROM:-0800
TZOFFSETTO:-0700
TZNAME:PDT
END:DAYLIGHT
END:VTIMEZONE
END:VCALENDAR