BEGIN:VCALENDAR
VERSION:2.0
PRODID:-//wp-events-plugin.com//7.2.3.1//EN
TZID:America/Los_Angeles
X-WR-TIMEZONE:America/Los_Angeles
BEGIN:VEVENT
UID:4524@lesliehowardyoga.com
DTSTART;TZID=America/Los_Angeles;VALUE=DATE:20240121
DTEND;TZID=America/Los_Angeles;VALUE=DATE:20240122
DTSTAMP:20231226T234236Z
URL:https://lesliehowardyoga.com/events/pelvic-floor-yoga-for-incontinence
 /
SUMMARY:Pelvic Floor Yoga for Incontinence - In Person
DESCRIPTION:
CATEGORIES:Workshops
LOCATION:Mount Diablo Yoga\, 2121 Ygnacio Valley Rd.\, Walnut Creek\, CA\, 
 94598\, United States
X-APPLE-STRUCTURED-LOCATION;VALUE=URI;X-ADDRESS=2121 Ygnacio Valley Rd.\, W
 alnut Creek\, CA\, 94598\, United States;X-APPLE-RADIUS=100;X-TITLE=Mount 
 Diablo Yoga:geo:0,0
END:VEVENT
BEGIN:VTIMEZONE
TZID:America/Los_Angeles
X-LIC-LOCATION:America/Los_Angeles
BEGIN:STANDARD
DTSTART:20231105T010000
TZOFFSETFROM:-0700
TZOFFSETTO:-0800
TZNAME:PST
END:STANDARD
END:VTIMEZONE
END:VCALENDAR