BEGIN:VCALENDAR
VERSION:2.0
PRODID:-//wp-events-plugin.com//7.2.3.1//EN
TZID:America/Los_Angeles
X-WR-TIMEZONE:America/Los_Angeles
BEGIN:VEVENT
UID:4580@lesliehowardyoga.com
DTSTART;TZID=America/Los_Angeles:20250315T000000
DTEND;TZID=America/Los_Angeles:20250315T000000
DTSTAMP:20250305T171304Z
URL:https://lesliehowardyoga.com/events/pelvic-floor-workshop-to-alleviate
 -incontinence-and-pelvic-pain-hybrid/
SUMMARY:Pelvic Floor Workshop to Alleviate Incontinence and Pelvic Pain - H
 ybrid
DESCRIPTION:
CATEGORIES:Workshops
LOCATION:Breathe Together\, 14107 Winchester Ave\, Los Gatos\, CA\, United 
 States
X-APPLE-STRUCTURED-LOCATION;VALUE=URI;X-ADDRESS=14107 Winchester Ave\, Los 
 Gatos\, CA\, United States;X-APPLE-RADIUS=100;X-TITLE=Breathe Together:geo
 :0,0
END:VEVENT
BEGIN:VTIMEZONE
TZID:America/Los_Angeles
X-LIC-LOCATION:America/Los_Angeles
BEGIN:DAYLIGHT
DTSTART:20250309T030000
TZOFFSETFROM:-0800
TZOFFSETTO:-0700
TZNAME:PDT
END:DAYLIGHT
END:VTIMEZONE
END:VCALENDAR