BEGIN:VCALENDAR
VERSION:2.0
PRODID:-//wp-events-plugin.com//7.2.3.1//EN
TZID:America/Los_Angeles
X-WR-TIMEZONE:America/Los_Angeles
BEGIN:VEVENT
UID:4257@lesliehowardyoga.com
DTSTART;TZID=America/Los_Angeles;VALUE=DATE:20180323
DTEND;TZID=America/Los_Angeles;VALUE=DATE:20180326
DTSTAMP:20180205T020241Z
URL:https://lesliehowardyoga.com/events/pelvic-floor-teacher-training-9/
SUMMARY:Pelvic Floor Teacher Training
DESCRIPTION:
CATEGORIES:Workshops
LOCATION:Yoga Works - rental\, 5-31-19 Shiba\, Tokyo\, Japan
GEO:35.64652;139.74576350000007
X-APPLE-STRUCTURED-LOCATION;VALUE=URI;X-ADDRESS=5-31-19 Shiba\, Tokyo\, Jap
 an;X-APPLE-RADIUS=100;X-TITLE=Yoga Works - rental:geo:35.64652,139.7457635
 0000007
END:VEVENT
BEGIN:VTIMEZONE
TZID:America/Los_Angeles
X-LIC-LOCATION:America/Los_Angeles
BEGIN:DAYLIGHT
DTSTART:20180311T030000
TZOFFSETFROM:-0800
TZOFFSETTO:-0700
TZNAME:PDT
END:DAYLIGHT
END:VTIMEZONE
END:VCALENDAR