BEGIN:VCALENDAR
VERSION:2.0
PRODID:-//wp-events-plugin.com//7.2.3.1//EN
TZID:America/Los_Angeles
X-WR-TIMEZONE:America/Los_Angeles
BEGIN:VEVENT
UID:4158@lesliehowardyoga.com
DTSTART;TZID=America/Los_Angeles:20160319T110000
DTEND;TZID=America/Los_Angeles:20160319T130000
DTSTAMP:20151113T234617Z
URL:https://lesliehowardyoga.com/events/cranky-hips-10/
SUMMARY:Cranky Hips
DESCRIPTION:
CATEGORIES:Workshops
LOCATION:Solstice Urban Retreat\, 302 E. Howard Ave.\, Decatur\, GA\, Unite
 d States
GEO:33.7718867;-84.29253819999997
X-APPLE-STRUCTURED-LOCATION;VALUE=URI;X-ADDRESS=302 E. Howard Ave.\, Decatu
 r\, GA\, United States;X-APPLE-RADIUS=100;X-TITLE=Solstice Urban Retreat:g
 eo:33.7718867,-84.29253819999997
END:VEVENT
BEGIN:VTIMEZONE
TZID:America/Los_Angeles
X-LIC-LOCATION:America/Los_Angeles
BEGIN:DAYLIGHT
DTSTART:20160313T030000
TZOFFSETFROM:-0800
TZOFFSETTO:-0700
TZNAME:PDT
END:DAYLIGHT
END:VTIMEZONE
END:VCALENDAR